BEGIN:VCALENDAR
VERSION:2.0
PRODID:-//Piedmont Master Gardeners - ECPv6.10.1.1//NONSGML v1.0//EN
CALSCALE:GREGORIAN
METHOD:PUBLISH
X-ORIGINAL-URL:https://pmgarchives.com
X-WR-CALDESC:Events for Piedmont Master Gardeners
REFRESH-INTERVAL;VALUE=DURATION:PT1H
X-Robots-Tag:noindex
X-PUBLISHED-TTL:PT1H
BEGIN:VTIMEZONE
TZID:America/New_York
BEGIN:DAYLIGHT
TZOFFSETFROM:-0500
TZOFFSETTO:-0400
TZNAME:EDT
DTSTART:20240310T070000
END:DAYLIGHT
BEGIN:STANDARD
TZOFFSETFROM:-0400
TZOFFSETTO:-0500
TZNAME:EST
DTSTART:20241103T060000
END:STANDARD
BEGIN:DAYLIGHT
TZOFFSETFROM:-0500
TZOFFSETTO:-0400
TZNAME:EDT
DTSTART:20250309T070000
END:DAYLIGHT
BEGIN:STANDARD
TZOFFSETFROM:-0400
TZOFFSETTO:-0500
TZNAME:EST
DTSTART:20251102T060000
END:STANDARD
END:VTIMEZONE
BEGIN:VEVENT
DTSTART;TZID=America/New_York:20250204T183000
DTEND;TZID=America/New_York:20250204T193000
DTSTAMP:20260421T210030
CREATED:20250115T134413Z
LAST-MODIFIED:20250115T134413Z
UID:43237-1738693800-1738697400@pmgarchives.com
SUMMARY:PMG Speakers Bureau: When\, Where\, and How to Prune
DESCRIPTION:Pruning landscape trees\, especially when young\, will set them on a path to a long\, healthy life.  At 6:30 p.m. Tuesday\, February 4\, the Center at Belvedere will host a free presentation by the Piedmont Master Gardeners on “When\, Where\, and How to Prune.” It will cover: \n\nthe basics of structural pruning\,\nwhen to prune various species\,\nwhere and how to make proper cuts\,\nthe right tools and how to use them\, and\nhow to stay safe while pruning.\n\nThe Center at Belvedere is at 540 Belvedere Blvd. in Charlottesville. To register\, visit https://thecentercville.org/calendar/event/134614/3.
URL:https://pmgarchives.com/events/pmg-speakers-bureau-when-where-and-how-to-prune/
LOCATION:The Center at Belvedere\, 540 Belvedere Boulevard\, Charlottesville\, VA\, 22901\, United States
CATEGORIES:Speakers Bureau,The Center Series
ATTACH;FMTTYPE=image/jpeg:https://pmgarchives.com/wp-content/uploads/2025/01/Pruning-at-Crozet-Park_web.jpg
ORGANIZER;CN="VCE - Piedmont Master Gardeners":MAILTO:info@pmgarchives.com
END:VEVENT
BEGIN:VEVENT
DTSTART;TZID=America/New_York:20241203T183000
DTEND;TZID=America/New_York:20241203T193000
DTSTAMP:20260421T210031
CREATED:20241119T222037Z
LAST-MODIFIED:20241125T171430Z
UID:42822-1733250600-1733254200@pmgarchives.com
SUMMARY:PMG Speakers Bureau: Permaculture
DESCRIPTION:Permaculture: What is it? Learn about this fascinating approach to land use that can be applied whether designing a small garden plot or embarking on a large agricultural undertaking. Permaculture works in concert with your ecosystem by allowing design\, soil\, plants\, and water to work harmoniously. Learn about analyzing the elements of your outdoor space to create a beautiful and sustainable environment. Nature leads us to the answers. \nThe in-person program is hosted by the Piedmont Master Gardeners and The Center at Belvedere and is open to all. Register here for this free event. 
URL:https://pmgarchives.com/events/pmg-speakers-bureau-permaculture/
LOCATION:The Center at Belvedere\, 540 Belvedere Boulevard\, Charlottesville\, VA\, 22901\, United States
CATEGORIES:Speakers Bureau
ATTACH;FMTTYPE=image/jpeg:https://pmgarchives.com/wp-content/uploads/2024/11/Permaculture_web-e1732554732610.jpg
ORGANIZER;CN="The Center at Belvedere":MAILTO:jennifer@thecentercville.org
END:VEVENT
BEGIN:VEVENT
DTSTART;TZID=America/New_York:20241118T180000
DTEND;TZID=America/New_York:20241118T200000
DTSTAMP:20260421T210031
CREATED:20241104T225431Z
LAST-MODIFIED:20241104T225431Z
UID:42627-1731952800-1731960000@pmgarchives.com
SUMMARY:Saving Seeds from Your Garden—at Gordon Avenue Library
DESCRIPTION:Join us to learn about the benefits of saving your own seeds and to receive great tips on how to harvest\, process\, and save seeds from your garden. \nOur workshop will cover: \n• Plant pollination\n• Cross-pollination issues and preserving variety integrity\n• Seed processing and storage\n• Special needs of some seeds\n• Seed viability testing. \nWe will also suggest plants that are good candidates for seed saving. \nRegistration is encouraged. Please sign up here.
URL:https://pmgarchives.com/events/saving-seeds-from-your-garden-at-gordon-avenue-library/
LOCATION:Gordon Avenue Library Meeting Room\, 1500 Gordon Avenue\, Charlottesville\, VA\, 22901\, United States
CATEGORIES:Speakers Bureau
ATTACH;FMTTYPE=image/jpeg:https://pmgarchives.com/wp-content/uploads/2024/08/Seed-Saving-e1723492147408.jpg
END:VEVENT
BEGIN:VEVENT
DTSTART;TZID=America/New_York:20241001T120000
DTEND;TZID=America/New_York:20241001T130000
DTSTAMP:20260421T210031
CREATED:20240913T195822Z
LAST-MODIFIED:20240913T201548Z
UID:42066-1727784000-1727787600@pmgarchives.com
SUMMARY:Dig into the Health Benefits of Gardening
DESCRIPTION:In addition to providing nutritious fruits and vegetables\, beautiful landscapes\, and fresh flowers\, gardening offers a variety of health benefits. As a part of special programming in recognition of the International Council on Active Aging’s Active Aging Week\, retired nurses and PMG members Kathy Floyd and Beth White will explain how we can reap all of the physical and mental health rewards that gardening can bring us. They will examine the benefits of gardening from a historical perspective while exploring the positive impacts of being outside and caring for a garden–on both our physical well-being and our state of mind. Further\, they will outline strategies for protecting ourselves and avoiding injuries while working in the garden. This presentation will also highlight opportunities for gardening in our community. To register for this event\, visit https://thecentercville.org/calendar/event/124147//2.
URL:https://pmgarchives.com/events/dig-into-the-health-benefits-of-gardening/
LOCATION:The Center at Belvedere\, 540 Belvedere Boulevard\, Charlottesville\, VA\, 22901\, United States
CATEGORIES:Speakers Bureau
ATTACH;FMTTYPE=image/jpeg:https://pmgarchives.com/wp-content/uploads/2024/09/2024_09_03_Demo-Garden-at-the-Center_web-e1726257169868.jpg
ORGANIZER;CN="VCE - Piedmont Master Gardeners":MAILTO:info@pmgarchives.com
END:VEVENT
BEGIN:VEVENT
DTSTART;TZID=America/New_York:20240928T140000
DTEND;TZID=America/New_York:20240928T153000
DTSTAMP:20260421T210031
CREATED:20240912T154026Z
LAST-MODIFIED:20240912T154026Z
UID:41997-1727532000-1727537400@pmgarchives.com
SUMMARY:Saving Seeds from Your Garden--at Scottsville Library
DESCRIPTION:Join us to learn about the benefits of saving your own seeds and to receive great tips on how to harvest\, process\, and save seeds from your garden. \nOur workshop will cover: \n• Plant pollination\n• Cross-pollination issues and preserving variety integrity\n• Seed processing and storage\n• Special needs of some seeds\n• Seed viability testing. \nWe will also suggest plants that are good candidates for seed saving. \nHosted by the Jefferson-Madison Regional Library\, Scottsville Branch\, to kick off its new Seed Library. 
URL:https://pmgarchives.com/events/saving-seeds-from-your-garden-at-scottsville-library/
LOCATION:Scottsville Library\, 330 Bird Street\, Scottsville\, VA\, 24590-0759\, United States
CATEGORIES:Speakers Bureau
ATTACH;FMTTYPE=image/jpeg:https://pmgarchives.com/wp-content/uploads/2024/08/Seed-Saving-e1723492147408.jpg
ORGANIZER;CN="VCE - Piedmont Master Gardeners":MAILTO:info@pmgarchives.com
END:VEVENT
BEGIN:VEVENT
DTSTART;TZID=America/New_York:20240819T183000
DTEND;TZID=America/New_York:20240819T193000
DTSTAMP:20260421T210031
CREATED:20240812T195126Z
LAST-MODIFIED:20240812T195408Z
UID:41757-1724092200-1724095800@pmgarchives.com
SUMMARY:PMG Speakers Bureau: Saving Seeds from Your Garden
DESCRIPTION:Have you wondered whether you can save and replant seeds from ornamentals\, native plants\, and vegetables you enjoy? Join us to learn about the benefits of saving your own seeds and to receive great tips on how to get started with harvesting\, processing\, and saving seeds. \nThe workshop will cover: \n\nPlant pollination\nCross-pollination issues and preserving variety integrity\nSeed processing and storage\nSpecial needs of some seeds\nSeed viability testing.\n\nWe will also suggest plants that are good candidates for seed saving. Register for this free program here.  \nPhoto courtesy of Penn State Master Gardeners.  \n 
URL:https://pmgarchives.com/events/pmg-speakers-bureau-saving-seeds-from-your-garden/
LOCATION:Crozet Library\, 2020 Library Avenue\, Crozet\, VA\, 22932\, United States
CATEGORIES:Speakers Bureau
ATTACH;FMTTYPE=image/jpeg:https://pmgarchives.com/wp-content/uploads/2024/08/Seed-Saving-e1723492147408.jpg
ORGANIZER;CN="VCE - Piedmont Master Gardeners":MAILTO:info@pmgarchives.com
END:VEVENT
BEGIN:VEVENT
DTSTART;TZID=America/New_York:20240806T183000
DTEND;TZID=America/New_York:20240806T193000
DTSTAMP:20260421T210031
CREATED:20240703T214814Z
LAST-MODIFIED:20240721T131938Z
UID:41458-1722969000-1722972600@pmgarchives.com
SUMMARY:PMG Speakers Bureau: Saving Dark Skies
DESCRIPTION:Light pollution is making nights almost 10 percent brighter every year. The disappearing darkness not only limits our view of the stars but also has serious implications for the health of all living things. Biological processes have evolved with our planet’s rhythm of night and day. Lighting up the night disrupts this predictable cycle. In addition\, excessive outdoor lighting is disorienting and often fatal for migrating birds\, nocturnal flying insects\, and baby sea turtles. \nThe good news is that light pollution is fixable. Join Master Gardener Christine Hirsh-Putnam and Monticello Curator of Plants Peggy Cornett to learn more about the impact of light pollution and the many ways we can mitigate it. \nThis in-person program is hosted by the Piedmont Master Gardeners and The Center at Belvedere and is free and open to all. Register here to attend. 
URL:https://pmgarchives.com/events/pmg-speakers-bureau-saving-darker-skies/
LOCATION:The Center at Belvedere\, 540 Belvedere Boulevard\, Charlottesville\, VA\, 22901\, United States
CATEGORIES:Speakers Bureau,The Center Series
ATTACH;FMTTYPE=image/jpeg:https://pmgarchives.com/wp-content/uploads/2024/07/light_pollution_usalights1.jpeg
ORGANIZER;CN="The Center at Belvedere":MAILTO:jennifer@thecentercville.org
END:VEVENT
BEGIN:VEVENT
DTSTART;TZID=America/New_York:20240604T183000
DTEND;TZID=America/New_York:20240604T193000
DTSTAMP:20260421T210031
CREATED:20240511T093340Z
LAST-MODIFIED:20240520T193015Z
UID:40882-1717525800-1717529400@pmgarchives.com
SUMMARY:PMG Speakers Bureau: Growing a Better Lawn
DESCRIPTION:Our lawns offer aesthetic and environmental benefits around our homes while providing a green space where children and pets can play. We can grow our lawns in ways that maintain these benefits while limiting harm to people and the environment. Learn a sustainable approach to lawn management that includes:\n• Using environmentally friendly practices\,\n• Managing weeds and pests while doing no harm to pollinators\, birds\, and other wildlife\, and\n• Replacing some lawn with ground covers and low-maintenance native plant beds.\nThis in-person program is hosted by the Piedmont Master Gardeners and The Center at Belvedere and is free and open to all.\nRegister here.
URL:https://pmgarchives.com/events/pmg-speakers-bureau-growing-a-better-lawn-2/
LOCATION:The Center at Belvedere\, 540 Belvedere Boulevard\, Charlottesville\, VA\, 22901\, United States
CATEGORIES:Speakers Bureau
ATTACH;FMTTYPE=image/jpeg:https://pmgarchives.com/wp-content/uploads/2024/05/2022_07_13_HVL_1_web-e1715347762613.jpg
ORGANIZER;CN="VCE - Piedmont Master Gardeners":MAILTO:info@pmgarchives.com
END:VEVENT
END:VCALENDAR