BEGIN:VCALENDAR
VERSION:2.0
PRODID:-//Piedmont Master Gardeners - ECPv6.10.1.1//NONSGML v1.0//EN
CALSCALE:GREGORIAN
METHOD:PUBLISH
X-WR-CALNAME:Piedmont Master Gardeners
X-ORIGINAL-URL:https://pmgarchives.com
X-WR-CALDESC:Events for Piedmont Master Gardeners
REFRESH-INTERVAL;VALUE=DURATION:PT1H
X-Robots-Tag:noindex
X-PUBLISHED-TTL:PT1H
BEGIN:VTIMEZONE
TZID:America/New_York
BEGIN:DAYLIGHT
TZOFFSETFROM:-0500
TZOFFSETTO:-0400
TZNAME:EDT
DTSTART:20250309T070000
END:DAYLIGHT
BEGIN:STANDARD
TZOFFSETFROM:-0400
TZOFFSETTO:-0500
TZNAME:EST
DTSTART:20251102T060000
END:STANDARD
END:VTIMEZONE
BEGIN:VEVENT
DTSTART;TZID=America/New_York:20250518T100000
DTEND;TZID=America/New_York:20250518T120000
DTSTAMP:20260421T132354
CREATED:20250322T200142Z
LAST-MODIFIED:20250331T184648Z
UID:44156-1747562400-1747569600@pmgarchives.com
SUMMARY:At James Monroe's Highland: Native Plant Swap
DESCRIPTION:Highland welcomes you to a native plant swap with the Piedmont Master Gardeners. We’ll have lots of healthy\, hearty starter plants for your summer gardens and a community table where swappers can share their (pest free!) plants\, drop pots and pottery\, and other garden goods. Non-native\, non-invasive plants\, including vegetables\, can also be swapped. Attendees can stop by the Master Gardener help desk for tips on native alternatives to imported ornamentals\, and to learn how to identify and remove invasive plants from their gardens. Remember\, pests are a part of gardening life: please inspect your plants before sharing\, and swap at your own risk.
URL:https://pmgarchives.com/events/at-james-monroes-highland-native-plant-swap/
LOCATION:James Monroe’s Highland\, 2050 James Monroe Parkway\, Charlottesville\, VA\, 22902\, United States
CATEGORIES:James Monroe's Highland Series
ATTACH;FMTTYPE=image/jpeg:https://pmgarchives.com/wp-content/uploads/2025/03/2024_08_27_pollinator-garden_14_web-scaled-e1742673386777.jpg
ORGANIZER;CN="VCE - Piedmont Master Gardeners":MAILTO:info@pmgarchives.com
END:VEVENT
END:VCALENDAR