BEGIN:VCALENDAR
VERSION:2.0
PRODID:-//Piedmont Master Gardeners - ECPv6.10.1.1//NONSGML v1.0//EN
CALSCALE:GREGORIAN
METHOD:PUBLISH
X-ORIGINAL-URL:https://pmgarchives.com
X-WR-CALDESC:Events for Piedmont Master Gardeners
REFRESH-INTERVAL;VALUE=DURATION:PT1H
X-Robots-Tag:noindex
X-PUBLISHED-TTL:PT1H
BEGIN:VTIMEZONE
TZID:America/New_York
BEGIN:DAYLIGHT
TZOFFSETFROM:-0500
TZOFFSETTO:-0400
TZNAME:EDT
DTSTART:20240310T070000
END:DAYLIGHT
BEGIN:STANDARD
TZOFFSETFROM:-0400
TZOFFSETTO:-0500
TZNAME:EST
DTSTART:20241103T060000
END:STANDARD
END:VTIMEZONE
BEGIN:VEVENT
DTSTART;TZID=America/New_York:20241116T140000
DTEND;TZID=America/New_York:20241116T160000
DTSTAMP:20260421T184940
CREATED:20231221T221603Z
LAST-MODIFIED:20240804T200315Z
UID:39320-1731765600-1731772800@pmgarchives.com
SUMMARY:Garden Basics: Nature’s Cornucopia of Holiday Plants and Decorations
DESCRIPTION:Welcome the winter holiday season with this festive workshop. \n\nLearn how to select\, showcase\, and maintain plants such as amaryllis\, paperwhites\, and Christmas cactus.\nDiscover possibilities for decorating with materials collected in the yard or on the trail.\nGet inspired with examples using a variety of fragrant greens\, cones\, berries\, dried flowers\, and seed pods.\n\nYou will create a simple take-home decoration. Garden Basics is a partnership with the Bread and Roses ministry at Trinity Episcopal Church. \n  \nSpace is limited. Please register below to reserve your place in the class.  Registration closes at 5 p.m. November 15\, 2024\, or when the class is full.  \n 
URL:https://pmgarchives.com/events/garden-basics-natures-cornucopia-of-holiday-plants-and-decorations/
LOCATION:Trinity Episcopal Church\, 1118 Preston Avenue\, Charlottesville\, 22903
CATEGORIES:Garden Basics
ATTACH;FMTTYPE=image/jpeg:https://pmgarchives.com/wp-content/uploads/2023/12/Amaryllis-_1_3x5.jpg
END:VEVENT
BEGIN:VEVENT
DTSTART;TZID=America/New_York:20241019T140000
DTEND;TZID=America/New_York:20241019T160000
DTSTAMP:20260421T184940
CREATED:20231221T220536Z
LAST-MODIFIED:20240927T135258Z
UID:39315-1729346400-1729353600@pmgarchives.com
SUMMARY:Garden Basics: Fall Tasks in the Perennial Garden
DESCRIPTION:Take a trip to the demonstration garden at Sentara Martha Jefferson Hospital to learn how to prepare your garden for winter. We will cover: \n\nhow and when to cut back plants\,\nfall mulching and soil amendments\,\ndividing and planting bulbs\, and\nfall transplanting.\n\nYou will go home with a flowering perennial to transplant into your own garden. Garden Basics is a partnership with the Bread and Roses ministry at Trinity Episcopal Church. \nSpace is limited. Please register below to reserve your place in the class.  Registration closes at 5 p.m. October 18\, 2024\, or when the class is full. 
URL:https://pmgarchives.com/events/garden-basics-fall-tasks-in-the-perennial-garden/
LOCATION:Sentara Martha Jefferson Hospital Demonstration Garden\, 595 Martha Jefferson Drive\, Charlottesville\, VA\, 22911
CATEGORIES:Garden Basics
ATTACH;FMTTYPE=image/jpeg:https://pmgarchives.com/wp-content/uploads/2023/12/GB_Fall-Garden-Cleanup_web-e1703196312187.jpg
END:VEVENT
BEGIN:VEVENT
DTSTART;TZID=America/New_York:20240921T140000
DTEND;TZID=America/New_York:20240921T160000
DTSTAMP:20260421T184940
CREATED:20231221T214847Z
LAST-MODIFIED:20240813T130554Z
UID:39309-1726927200-1726934400@pmgarchives.com
SUMMARY:Garden Basics: Square-Foot Gardening
DESCRIPTION:Learn how to maximize your growing space in the vegetable garden by using the square-foot gardening method. Square-foot gardening makes it easy to organize your garden layout and stop guessing about spacing. You will also identify weeds more easily. You will take home a chart with suggested spacing for the most commonly grown vegetables\, along with a template for laying out your garden. \nGarden Basics is a partnership with the Bread and Roses ministry at Trinity Episcopal Church. \nSpace is limited. Please register below to reserve your place in the class.  Registration closes at 5 p.m. September 20\, 2024\, or when the class is full. 
URL:https://pmgarchives.com/events/garden-basics-square-foot-gardening/
LOCATION:Trinity Episcopal Church\, 1118 Preston Avenue\, Charlottesville\, 22903
CATEGORIES:Garden Basics
ATTACH;FMTTYPE=image/jpeg:https://pmgarchives.com/wp-content/uploads/2023/12/Square-Foot-Gardening_web.jpg
ORGANIZER;CN="VCE - Piedmont Master Gardeners":MAILTO:info@pmgarchives.com
END:VEVENT
BEGIN:VEVENT
DTSTART;TZID=America/New_York:20240720T140000
DTEND;TZID=America/New_York:20240720T160000
DTSTAMP:20260421T184940
CREATED:20231221T213929Z
LAST-MODIFIED:20240606T212138Z
UID:39305-1721484000-1721491200@pmgarchives.com
SUMMARY:Garden Basics: Making Hypertufa Containers--CLASS IS FULL
DESCRIPTION:Hypertufa containers last for years and are ideal for displaying flowers\, bulbs\, succulents\, and other plants—indoors or out. You will learn: \n\nwhat hypertufa is\,\nhow to make a hypertufa container safely\, and\nplants that do well in a hypertufa container.\n\nYou will also make a container to take home\, with instructions provided in advance. Garden Basics is a partnership with the Bread and Roses ministry at Trinity Episcopal Church. \nThe class is full. 
URL:https://pmgarchives.com/events/garden-basics-making-hypertufa-containers/
LOCATION:Trinity Episcopal Church\, 1118 Preston Avenue\, Charlottesville\, 22903
CATEGORIES:Garden Basics
ATTACH;FMTTYPE=image/jpeg:https://pmgarchives.com/wp-content/uploads/2023/12/Hypertufa-Garden-Basics.jpg
END:VEVENT
BEGIN:VEVENT
DTSTART;TZID=America/New_York:20240622T140000
DTEND;TZID=America/New_York:20240622T160000
DTSTAMP:20260421T184940
CREATED:20231221T211610Z
LAST-MODIFIED:20240202T164405Z
UID:39299-1719064800-1719072000@pmgarchives.com
SUMMARY:Garden Basics: Backyard Composting for Healthy Soil and a Healthier Planet
DESCRIPTION:Composting makes sustainable and beneficial use of food and yard waste\, reduces chemical fertilizer and insecticide use\, and keeps organic wastes out of landfills. This workshop will cover: \n\nsoil and plant nutrient basics\,\nthe benefits of natural soil building by creating compost from organic matter\, and\ncomposting techniques appropriate for home gardeners.\n\nWe will also examine samples of compost batches in various stages of decomposition. Garden Basics is a partnership with the Bread and Roses ministry at Trinity Episcopal Church. \nSpace is limited. Please register below to reserve your place in the class.  Registration closes at 5 p.m. June 21\, 2024\, or when the class is full. 
URL:https://pmgarchives.com/events/garden-basics-backyard-composting-for-healthy-soil-and-a-healthier-planet/
LOCATION:Trinity Episcopal Church\, 1118 Preston Avenue\, Charlottesville\, 22903
CATEGORIES:Garden Basics
ATTACH;FMTTYPE=image/jpeg:https://pmgarchives.com/wp-content/uploads/2023/12/GB-Flyer-5_Composting_web-e1703193225563.jpg
ORGANIZER;CN="VCE - Piedmont Master Gardeners":MAILTO:info@pmgarchives.com
END:VEVENT
BEGIN:VEVENT
DTSTART;TZID=America/New_York:20240518T140000
DTEND;TZID=America/New_York:20240518T160000
DTSTAMP:20260421T184940
CREATED:20231221T170211Z
LAST-MODIFIED:20240202T164232Z
UID:39283-1716040800-1716048000@pmgarchives.com
SUMMARY:Garden Basics: Dividing Bulbs\, Corms\, Tubers\, and Rhizomes
DESCRIPTION:Many beautiful plants come from bulbs\, corms\, tubers\, and rhizomes. Some can be left in the ground over the winter\, while others can be dug up\, stored\, and planted the following spring.  You will discover: \n\nhow to identify bulbs\, corms\, tubers\, and rhizomes;\nhow they reproduce;\nhow to dig them up; and\nhow to store them for the winter.\n\nA hands-on activity will demonstrate the proper method for dividing. Garden Basics is a partnership with the Bread and Roses ministry at Trinity Episcopal Church. \nSpace is limited. Please register below to reserve your place in the class.  Registration closes at 5 p.m. May 17\, 2024\, or when the class is full. 
URL:https://pmgarchives.com/events/garden-basics-dividing-bulbs-corms-tubers-and-rhizomes/
LOCATION:Trinity Episcopal Church\, 1118 Preston Avenue\, Charlottesville\, 22903
CATEGORIES:Garden Basics
ATTACH;FMTTYPE=image/jpeg:https://pmgarchives.com/wp-content/uploads/2023/12/GB-Flyer-4_Dividing-Bulbs_web-1.jpg
ORGANIZER;CN="VCE - Piedmont Master Gardeners":MAILTO:info@pmgarchives.com
END:VEVENT
END:VCALENDAR