BEGIN:VCALENDAR
VERSION:2.0
PRODID:-//Piedmont Master Gardeners - ECPv6.10.1.1//NONSGML v1.0//EN
CALSCALE:GREGORIAN
METHOD:PUBLISH
X-ORIGINAL-URL:https://pmgarchives.com
X-WR-CALDESC:Events for Piedmont Master Gardeners
REFRESH-INTERVAL;VALUE=DURATION:PT1H
X-Robots-Tag:noindex
X-PUBLISHED-TTL:PT1H
BEGIN:VTIMEZONE
TZID:America/New_York
BEGIN:DAYLIGHT
TZOFFSETFROM:-0500
TZOFFSETTO:-0400
TZNAME:EDT
DTSTART:20240310T070000
END:DAYLIGHT
BEGIN:STANDARD
TZOFFSETFROM:-0400
TZOFFSETTO:-0500
TZNAME:EST
DTSTART:20241103T060000
END:STANDARD
BEGIN:DAYLIGHT
TZOFFSETFROM:-0500
TZOFFSETTO:-0400
TZNAME:EDT
DTSTART:20250309T070000
END:DAYLIGHT
BEGIN:STANDARD
TZOFFSETFROM:-0400
TZOFFSETTO:-0500
TZNAME:EST
DTSTART:20251102T060000
END:STANDARD
END:VTIMEZONE
BEGIN:VEVENT
DTSTART;TZID=America/New_York:20251122T140000
DTEND;TZID=America/New_York:20251122T160000
DTSTAMP:20260421T082144
CREATED:20241228T200438Z
LAST-MODIFIED:20250306T194359Z
UID:43072-1763820000-1763827200@pmgarchives.com
SUMMARY:Garden Basics: When\, Where and How to Prune
DESCRIPTION:Proper pruning can improve the health and structure of trees and shrubs. In this session\, we will focus on:\n• the basics of structural pruning\,\n• when to prune various species\,\n• where and how to make proper cuts\,\n• the right tools and how to use them\, and\n• how to prune safely. \nSpaces is limited. Registration opens September 15 and will close at 5 p.m. November 21 or when the class is full.  \nGarden Basics is a partnership with the Bread and Roses ministry at Trinity Episcopal Church in Charlottesville. \n 
URL:https://pmgarchives.com/events/garden-basics-when-where-and-how-to-prune/
LOCATION:Trinity Episcopal Church\, 1118 Preston Avenue\, Charlottesville\, 22903
CATEGORIES:Garden Basics
ATTACH;FMTTYPE=image/jpeg:https://pmgarchives.com/wp-content/uploads/2024/12/2024_12_14_Pruning-at-Chris-Greene-Lake-scaled-e1735415962285.jpg
END:VEVENT
BEGIN:VEVENT
DTSTART;TZID=America/New_York:20251018T140000
DTEND;TZID=America/New_York:20251018T160000
DTSTAMP:20260421T082144
CREATED:20241228T194342Z
LAST-MODIFIED:20250306T200058Z
UID:43068-1760796000-1760803200@pmgarchives.com
SUMMARY:Garden Basics: Tiny Indoor Gardens for Winter Green Thumbs—Easy\, Nutritious Microgreens and Sprouts
DESCRIPTION:Microgreens and sprouts are the most local food you can eat. In this hands-on class\, you will learn simple and inexpensive ways to grow delicious microgreens and sprouts. Small but mighty\, these nutrition powerhouses are especially welcomed in the winter months. \nSpace is limited. Registration opens August 11 and closes at 5 p.m. October 17 or when the class is full. \nGarden Basics is a partnership with the Bread and Roses ministry at Trinity Episcopal Church in Charlottesville. \nPhoto: Designed by Freepik
URL:https://pmgarchives.com/events/garden-basics-tiny-indoor-gardens-for-winter-green-thumbs-easy-nutritious-microgreens-and-sprouts/
LOCATION:Trinity Episcopal Church\, 1118 Preston Avenue\, Charlottesville\, 22903
CATEGORIES:Garden Basics
ATTACH;FMTTYPE=image/jpeg:https://pmgarchives.com/wp-content/uploads/2024/12/Garden-Basics_October_Microgreens_credit_square_Designed-by-Feepik-scaled-e1735414879112.jpg
ORGANIZER;CN="VCE - Piedmont Master Gardeners":MAILTO:info@pmgarchives.com
END:VEVENT
BEGIN:VEVENT
DTSTART;TZID=America/New_York:20250920T140000
DTEND;TZID=America/New_York:20250920T160000
DTSTAMP:20260421T082144
CREATED:20241228T191914Z
LAST-MODIFIED:20250306T203317Z
UID:43062-1758376800-1758384000@pmgarchives.com
SUMMARY:Garden Basics: Household Food Waste—The Big Picture: Food Preservation Methods as One Solution
DESCRIPTION:Consumers are responsible for most of the wasted food that winds up in our landfills and harms our environment. Learn some easy and practical strategies to reduce food waste\, such as properly preserving food for later use\, including food harvested from the garden. Canning\, freezing\, dehydrating\, and fermenting are great options. \nSpace is limited. Registration opens July 12 and will close at 5 p.m. September 19 or when the class is full. \nGarden Basics is a partnership with the Bread and Roses ministry at Trinity Episcopal Church in Charlottesville. \nPhoto: Designed by Freepik
URL:https://pmgarchives.com/events/garden-basics-household-food-waste-the-big-picture-food-preservation-methods-as-one-solution/
LOCATION:Trinity Episcopal Church\, 1118 Preston Avenue\, Charlottesville\, 22903
CATEGORIES:Garden Basics
ATTACH;FMTTYPE=image/jpeg:https://pmgarchives.com/wp-content/uploads/2024/12/Garden-Basics_September_Food-Waste-and-Preservation_Horizontal_credit_Designed-by-Freepik-scaled-e1735412845275.jpg
ORGANIZER;CN="VCE - Piedmont Master Gardeners":MAILTO:info@pmgarchives.com
END:VEVENT
BEGIN:VEVENT
DTSTART;TZID=America/New_York:20250719T140000
DTEND;TZID=America/New_York:20250719T160000
DTSTAMP:20260421T082144
CREATED:20241215T222712Z
LAST-MODIFIED:20241215T222712Z
UID:42969-1752933600-1752940800@pmgarchives.com
SUMMARY:Garden Basics: Resilient Gardening
DESCRIPTION:How do we adapt our gardens to handle a changing world and more extreme weather? Learn how to meet the challenges of unpredictability in your garden and weather extremes such as drought\, excessive rain\, and unseasonably high or low temperatures. \nSpace is limited. Registration opens May 10 and closes at 5 p.m. July 18\, 2025\, or when the class is full. Garden Basics is a partnership with the Bread and Roses ministry at Trinity Episcopal Church in Charlottesville.
URL:https://pmgarchives.com/events/garden-basics-resilient-gardening/
LOCATION:Trinity Episcopal Church\, 1118 Preston Avenue\, Charlottesville\, 22903
CATEGORIES:Garden Basics
ATTACH;FMTTYPE=image/jpeg:https://pmgarchives.com/wp-content/uploads/2024/12/Garden-Basics_July_Resilient-Gardening_Photo-by-Markus-Spiske-on-Unsplash_web-3x5-1.jpg
END:VEVENT
BEGIN:VEVENT
DTSTART;TZID=America/New_York:20250621T140000
DTEND;TZID=America/New_York:20250621T160000
DTSTAMP:20260421T082144
CREATED:20241215T221530Z
LAST-MODIFIED:20250306T202451Z
UID:42964-1750514400-1750521600@pmgarchives.com
SUMMARY:Garden Basics: Growing Tomatoes with Confidence
DESCRIPTION:Flavorful\, vine-ripened tomatoes are often the main reason many of us plant a vegetable garden. This session will provide practical advice on the basics of tomato growing success\, including: \n\nChoosing tomato varieties\nPlanting guidelines\nCaring for tomato plants\nDealing with tomato diseases and pests\nHarvesting and storing tomatoes.\n\nSpace is limited. Registration opens April 11 and closes at 5 p.m. June 20\, 2025\, or when the class is full. Garden Basics is a partnership with the Bread and Roses ministry at Trinity Episcopal Church in Charlottesville.
URL:https://pmgarchives.com/events/garden-basics-growing-tomatoes-with-confidence/
LOCATION:Trinity Episcopal Church\, 1118 Preston Avenue\, Charlottesville\, 22903
CATEGORIES:Garden Basics
ATTACH;FMTTYPE=image/jpeg:https://pmgarchives.com/wp-content/uploads/2024/12/Garden-Basics_June_Tomatoes_web_3x5.jpg
ORGANIZER;CN="VCE - Piedmont Master Gardeners":MAILTO:info@pmgarchives.com
END:VEVENT
BEGIN:VEVENT
DTSTART;TZID=America/New_York:20250517T140000
DTEND;TZID=America/New_York:20250517T160000
DTSTAMP:20260421T082144
CREATED:20241215T215152Z
LAST-MODIFIED:20250306T202619Z
UID:42954-1747490400-1747497600@pmgarchives.com
SUMMARY:Garden Basics: Invasive Species—Not All Plants Are Created Equal
DESCRIPTION:All too often\, unsuspecting homeowners come home from a local nursery with an invasive species. Sadly\, invasives wreak havoc on our ecosystems\, denying birds and other native fauna the nutrition necessary to sustain them. Come learn why a Butterfly Bush is comparable to giving an 18-year-old junk food before running a marathon. You will learn how to recognize and eradicate the top 10 invasive species in the Piedmont region\, with a particular focus on invasives still sold in retail nurseries. And you will come away with a list of native species to plant in their place. \nSpace is limited. Registration opens March 8 and closes at 5 p.m. May 16\, 2025\, or when the class is full. Garden Basics is a partnership with the Bread and Roses ministry at Trinity Episcopal Church in Charlottesville. \nPhoto: Designed by Freepik
URL:https://pmgarchives.com/events/garden-basics-invasive-species-not-all-plants-are-created-equal/
LOCATION:Trinity Episcopal Church\, 1118 Preston Avenue\, Charlottesville\, 22903
CATEGORIES:Garden Basics
ATTACH;FMTTYPE=image/jpeg:https://pmgarchives.com/wp-content/uploads/2024/12/Garden-Basics_May_Invasives_Credit_Designed-by-Feepik_web_3x5-e1734299290436.jpg
ORGANIZER;CN="VCE - Piedmont Master Gardeners":MAILTO:info@pmgarchives.com
END:VEVENT
BEGIN:VEVENT
DTSTART;TZID=America/New_York:20250426T140000
DTEND;TZID=America/New_York:20250426T160000
DTSTAMP:20260421T082145
CREATED:20241215T212507Z
LAST-MODIFIED:20250418T134837Z
UID:42950-1745676000-1745683200@pmgarchives.com
SUMMARY:Garden Basics: Foodscaping—The Edible Landscape
DESCRIPTION:In this Garden Basics session\, learn how you can turn your landscape into a sustainable\, perennial\, ecologically healthy space that provides food. We will focus on how to grow edible crops without ripping out flowers and shrubs to convert the beds into a vegetable garden. Ornamentals\, fruits\, vegetables\, and herbs can co-exist and thrive in the same space. \nSpace is limited. Registration opens Feb. 15 and closes at 5 p.m. April 25\, 2025\, or when the class is full. Garden Basics is a partnership with the Bread and Roses ministry at Trinity Episcopal Church in Charlottesville. \nPhoto: Designed by Freepik
URL:https://pmgarchives.com/events/garden-basics-foodscaping-the-edible-landscape/
LOCATION:Trinity Episcopal Church\, 1118 Preston Avenue\, Charlottesville\, 22903
CATEGORIES:Garden Basics
ATTACH;FMTTYPE=image/jpeg:https://pmgarchives.com/wp-content/uploads/2024/12/Garden-Basics_April_Foodscaping_credit_Designed-by-Freepik_web-3x5-1.jpg
ORGANIZER;CN="VCE - Piedmont Master Gardeners":MAILTO:info@pmgarchives.com
END:VEVENT
BEGIN:VEVENT
DTSTART;TZID=America/New_York:20250315T140000
DTEND;TZID=America/New_York:20250315T160000
DTSTAMP:20260421T082145
CREATED:20241125T185939Z
LAST-MODIFIED:20250213T030643Z
UID:42838-1742047200-1742054400@pmgarchives.com
SUMMARY:Garden Basics: Pollinators for Four Seasons
DESCRIPTION:Pollinators such as butterflies\, bees\, and birds are responsible for much of the food we eat. Unfortunately\, their populations are declining because of habitat loss and dwindling food supplies. The good news is that you can support pollinators and enjoy them year-round by learning how to provide food and shelter in your garden space—whether your garden area is large or limited to a patio or balcony. \nGarden Basics sessions are free and open to all\, but space is limited. Please register below to reserve your place in the class. Registration will close at 5 p.m. March 14 or when the class is full. \nGarden Basics is a partnership with the Bread and Roses ministry at Trinity Episcopal Church in Charlottesville. \nPhoto: Laura Ockel/Unsplash
URL:https://pmgarchives.com/events/garden-basics-pollinators-for-four-seasons/
LOCATION:Trinity Episcopal Church\, 1118 Preston Avenue\, Charlottesville\, 22903
CATEGORIES:Garden Basics
ATTACH;FMTTYPE=image/jpeg:https://pmgarchives.com/wp-content/uploads/2024/11/Pollinators-March-2025.jpg
END:VEVENT
BEGIN:VEVENT
DTSTART;TZID=America/New_York:20250222T140000
DTEND;TZID=America/New_York:20250222T160000
DTSTAMP:20260421T082145
CREATED:20241114T144949Z
LAST-MODIFIED:20250213T031803Z
UID:42683-1740232800-1740240000@pmgarchives.com
SUMMARY:Garden Basics: Tool Talk—The Right Tools for the Right Gardening Tasks
DESCRIPTION:Choosing the best tool for your gardening chores will save time\, energy\, and your back. We will demonstrate the safe use of basic tools so that all your garden tasks go smoothly. Power tools will not be discussed in this program. \nSpace is limited. Please register below to reserve your place in the class. Registration will close at 5 p.m. February 21 or when the class is full. \nGarden Basics is a partnership with the Bread and Roses ministry at Trinity Episcopal Church in Charlottesville. \nPhoto: Designed by Freepik
URL:https://pmgarchives.com/events/garden-basics-tool-talk-the-right-tools-for-the-right-gardening-tasks/
LOCATION:Trinity Episcopal Church\, 1118 Preston Avenue\, Charlottesville\, 22903
CATEGORIES:Garden Basics
ATTACH;FMTTYPE=image/jpeg:https://pmgarchives.com/wp-content/uploads/2024/11/Garden-Tools_Designed-by-Feepik-e1731595926472.jpg
END:VEVENT
BEGIN:VEVENT
DTSTART;TZID=America/New_York:20250215T130000
DTEND;TZID=America/New_York:20250215T150000
DTSTAMP:20260421T082145
CREATED:20241111T192335Z
LAST-MODIFIED:20250213T025140Z
UID:42647-1739624400-1739631600@pmgarchives.com
SUMMARY:RESCHEDULED AT NEW TIME AND PLACE Garden Basics: Indoor Gardening—You Don’t Need a Green Thumb!
DESCRIPTION:Learn how to beautify your surroundings with indoor plants. Our class will focus on\n• plant selection\,\n• repotting\,\n• containers\,\n• environmental factors\, and\n• ways to maximize the use of greenery in your home.\nWe will set you on the path to long-term success as an indoor gardener. \nPLEASE NOTE: This rescheduled session will be held in the Barn at James Monroe’s Highland\, 2050 James Monroe Parkway\, Charlottesville. \nThe class is full.  \nPhoto: Designed by Freepik
URL:https://pmgarchives.com/events/garden-basics-indoor-gardening-you-dont-need-a-green-thumb/
LOCATION:James Monroe’s Highland\, 2050 James Monroe Parkway\, Charlottesville\, VA\, 22902\, United States
CATEGORIES:Garden Basics
ATTACH;FMTTYPE=image/jpeg:https://pmgarchives.com/wp-content/uploads/2024/11/room-interior-design_23-2148899456-e1731353208228.jpg
ORGANIZER;CN="VCE - Piedmont Master Gardeners":MAILTO:info@pmgarchives.com
END:VEVENT
BEGIN:VEVENT
DTSTART;TZID=America/New_York:20241116T140000
DTEND;TZID=America/New_York:20241116T160000
DTSTAMP:20260421T082145
CREATED:20231221T221603Z
LAST-MODIFIED:20240804T200315Z
UID:39320-1731765600-1731772800@pmgarchives.com
SUMMARY:Garden Basics: Nature’s Cornucopia of Holiday Plants and Decorations
DESCRIPTION:Welcome the winter holiday season with this festive workshop. \n\nLearn how to select\, showcase\, and maintain plants such as amaryllis\, paperwhites\, and Christmas cactus.\nDiscover possibilities for decorating with materials collected in the yard or on the trail.\nGet inspired with examples using a variety of fragrant greens\, cones\, berries\, dried flowers\, and seed pods.\n\nYou will create a simple take-home decoration. Garden Basics is a partnership with the Bread and Roses ministry at Trinity Episcopal Church. \n  \nSpace is limited. Please register below to reserve your place in the class.  Registration closes at 5 p.m. November 15\, 2024\, or when the class is full.  \n 
URL:https://pmgarchives.com/events/garden-basics-natures-cornucopia-of-holiday-plants-and-decorations/
LOCATION:Trinity Episcopal Church\, 1118 Preston Avenue\, Charlottesville\, 22903
CATEGORIES:Garden Basics
ATTACH;FMTTYPE=image/jpeg:https://pmgarchives.com/wp-content/uploads/2023/12/Amaryllis-_1_3x5.jpg
END:VEVENT
BEGIN:VEVENT
DTSTART;TZID=America/New_York:20241019T140000
DTEND;TZID=America/New_York:20241019T160000
DTSTAMP:20260421T082145
CREATED:20231221T220536Z
LAST-MODIFIED:20240927T135258Z
UID:39315-1729346400-1729353600@pmgarchives.com
SUMMARY:Garden Basics: Fall Tasks in the Perennial Garden
DESCRIPTION:Take a trip to the demonstration garden at Sentara Martha Jefferson Hospital to learn how to prepare your garden for winter. We will cover: \n\nhow and when to cut back plants\,\nfall mulching and soil amendments\,\ndividing and planting bulbs\, and\nfall transplanting.\n\nYou will go home with a flowering perennial to transplant into your own garden. Garden Basics is a partnership with the Bread and Roses ministry at Trinity Episcopal Church. \nSpace is limited. Please register below to reserve your place in the class.  Registration closes at 5 p.m. October 18\, 2024\, or when the class is full. 
URL:https://pmgarchives.com/events/garden-basics-fall-tasks-in-the-perennial-garden/
LOCATION:Sentara Martha Jefferson Hospital Demonstration Garden\, 595 Martha Jefferson Drive\, Charlottesville\, VA\, 22911
CATEGORIES:Garden Basics
ATTACH;FMTTYPE=image/jpeg:https://pmgarchives.com/wp-content/uploads/2023/12/GB_Fall-Garden-Cleanup_web-e1703196312187.jpg
END:VEVENT
BEGIN:VEVENT
DTSTART;TZID=America/New_York:20240921T140000
DTEND;TZID=America/New_York:20240921T160000
DTSTAMP:20260421T082146
CREATED:20231221T214847Z
LAST-MODIFIED:20240813T130554Z
UID:39309-1726927200-1726934400@pmgarchives.com
SUMMARY:Garden Basics: Square-Foot Gardening
DESCRIPTION:Learn how to maximize your growing space in the vegetable garden by using the square-foot gardening method. Square-foot gardening makes it easy to organize your garden layout and stop guessing about spacing. You will also identify weeds more easily. You will take home a chart with suggested spacing for the most commonly grown vegetables\, along with a template for laying out your garden. \nGarden Basics is a partnership with the Bread and Roses ministry at Trinity Episcopal Church. \nSpace is limited. Please register below to reserve your place in the class.  Registration closes at 5 p.m. September 20\, 2024\, or when the class is full. 
URL:https://pmgarchives.com/events/garden-basics-square-foot-gardening/
LOCATION:Trinity Episcopal Church\, 1118 Preston Avenue\, Charlottesville\, 22903
CATEGORIES:Garden Basics
ATTACH;FMTTYPE=image/jpeg:https://pmgarchives.com/wp-content/uploads/2023/12/Square-Foot-Gardening_web.jpg
ORGANIZER;CN="VCE - Piedmont Master Gardeners":MAILTO:info@pmgarchives.com
END:VEVENT
BEGIN:VEVENT
DTSTART;TZID=America/New_York:20240720T140000
DTEND;TZID=America/New_York:20240720T160000
DTSTAMP:20260421T082146
CREATED:20231221T213929Z
LAST-MODIFIED:20240606T212138Z
UID:39305-1721484000-1721491200@pmgarchives.com
SUMMARY:Garden Basics: Making Hypertufa Containers--CLASS IS FULL
DESCRIPTION:Hypertufa containers last for years and are ideal for displaying flowers\, bulbs\, succulents\, and other plants—indoors or out. You will learn: \n\nwhat hypertufa is\,\nhow to make a hypertufa container safely\, and\nplants that do well in a hypertufa container.\n\nYou will also make a container to take home\, with instructions provided in advance. Garden Basics is a partnership with the Bread and Roses ministry at Trinity Episcopal Church. \nThe class is full. 
URL:https://pmgarchives.com/events/garden-basics-making-hypertufa-containers/
LOCATION:Trinity Episcopal Church\, 1118 Preston Avenue\, Charlottesville\, 22903
CATEGORIES:Garden Basics
ATTACH;FMTTYPE=image/jpeg:https://pmgarchives.com/wp-content/uploads/2023/12/Hypertufa-Garden-Basics.jpg
END:VEVENT
BEGIN:VEVENT
DTSTART;TZID=America/New_York:20240622T140000
DTEND;TZID=America/New_York:20240622T160000
DTSTAMP:20260421T082146
CREATED:20231221T211610Z
LAST-MODIFIED:20240202T164405Z
UID:39299-1719064800-1719072000@pmgarchives.com
SUMMARY:Garden Basics: Backyard Composting for Healthy Soil and a Healthier Planet
DESCRIPTION:Composting makes sustainable and beneficial use of food and yard waste\, reduces chemical fertilizer and insecticide use\, and keeps organic wastes out of landfills. This workshop will cover: \n\nsoil and plant nutrient basics\,\nthe benefits of natural soil building by creating compost from organic matter\, and\ncomposting techniques appropriate for home gardeners.\n\nWe will also examine samples of compost batches in various stages of decomposition. Garden Basics is a partnership with the Bread and Roses ministry at Trinity Episcopal Church. \nSpace is limited. Please register below to reserve your place in the class.  Registration closes at 5 p.m. June 21\, 2024\, or when the class is full. 
URL:https://pmgarchives.com/events/garden-basics-backyard-composting-for-healthy-soil-and-a-healthier-planet/
LOCATION:Trinity Episcopal Church\, 1118 Preston Avenue\, Charlottesville\, 22903
CATEGORIES:Garden Basics
ATTACH;FMTTYPE=image/jpeg:https://pmgarchives.com/wp-content/uploads/2023/12/GB-Flyer-5_Composting_web-e1703193225563.jpg
ORGANIZER;CN="VCE - Piedmont Master Gardeners":MAILTO:info@pmgarchives.com
END:VEVENT
BEGIN:VEVENT
DTSTART;TZID=America/New_York:20240518T140000
DTEND;TZID=America/New_York:20240518T160000
DTSTAMP:20260421T082146
CREATED:20231221T170211Z
LAST-MODIFIED:20240202T164232Z
UID:39283-1716040800-1716048000@pmgarchives.com
SUMMARY:Garden Basics: Dividing Bulbs\, Corms\, Tubers\, and Rhizomes
DESCRIPTION:Many beautiful plants come from bulbs\, corms\, tubers\, and rhizomes. Some can be left in the ground over the winter\, while others can be dug up\, stored\, and planted the following spring.  You will discover: \n\nhow to identify bulbs\, corms\, tubers\, and rhizomes;\nhow they reproduce;\nhow to dig them up; and\nhow to store them for the winter.\n\nA hands-on activity will demonstrate the proper method for dividing. Garden Basics is a partnership with the Bread and Roses ministry at Trinity Episcopal Church. \nSpace is limited. Please register below to reserve your place in the class.  Registration closes at 5 p.m. May 17\, 2024\, or when the class is full. 
URL:https://pmgarchives.com/events/garden-basics-dividing-bulbs-corms-tubers-and-rhizomes/
LOCATION:Trinity Episcopal Church\, 1118 Preston Avenue\, Charlottesville\, 22903
CATEGORIES:Garden Basics
ATTACH;FMTTYPE=image/jpeg:https://pmgarchives.com/wp-content/uploads/2023/12/GB-Flyer-4_Dividing-Bulbs_web-1.jpg
ORGANIZER;CN="VCE - Piedmont Master Gardeners":MAILTO:info@pmgarchives.com
END:VEVENT
END:VCALENDAR