BEGIN:VCALENDAR
VERSION:2.0
PRODID:-//Piedmont Master Gardeners - ECPv6.10.1.1//NONSGML v1.0//EN
CALSCALE:GREGORIAN
METHOD:PUBLISH
X-WR-CALNAME:Piedmont Master Gardeners
X-ORIGINAL-URL:https://pmgarchives.com
X-WR-CALDESC:Events for Piedmont Master Gardeners
REFRESH-INTERVAL;VALUE=DURATION:PT1H
X-Robots-Tag:noindex
X-PUBLISHED-TTL:PT1H
BEGIN:VTIMEZONE
TZID:America/New_York
BEGIN:DAYLIGHT
TZOFFSETFROM:-0500
TZOFFSETTO:-0400
TZNAME:EDT
DTSTART:20250309T070000
END:DAYLIGHT
BEGIN:STANDARD
TZOFFSETFROM:-0400
TZOFFSETTO:-0500
TZNAME:EST
DTSTART:20251102T060000
END:STANDARD
END:VTIMEZONE
BEGIN:VEVENT
DTSTART;TZID=America/New_York:20250330T130000
DTEND;TZID=America/New_York:20250330T150000
DTSTAMP:20260421T183144
CREATED:20250205T204915Z
LAST-MODIFIED:20250213T031418Z
UID:43490-1743339600-1743346800@pmgarchives.com
SUMMARY:At James Monroe's Highland: Prepping and Planning Your Vegetable Garden
DESCRIPTION:Join the Piedmont Master Gardeners at James Monroe’s Highland for a spring gardening workshop on “Prepping and Planning Your Vegetable Garden.” Participants will learn the basics of garden planning\, including soil testing and seed starting\, then apply these skills with a hands-on project in Highland’s exhibition garden. \nThis event is free and open to all\, but space is limited. Please register below to reserve your place in the class. Registration closes at 5 p.m. March 29 or when the workshop is full.
URL:https://pmgarchives.com/events/at-james-monroes-highland-prepping-and-planning-your-vegetable-garden/
LOCATION:James Monroe’s Highland\, 2050 James Monroe Parkway\, Charlottesville\, VA\, 22902\, United States
CATEGORIES:Garden Basics at James Monroe's Highland
ATTACH;FMTTYPE=image/jpeg:https://pmgarchives.com/wp-content/uploads/2025/02/2025_03_30_Planning-a-Vegetable-Garden_web.jpg
ORGANIZER;CN="VCE - Piedmont Master Gardeners":MAILTO:info@pmgarchives.com
END:VEVENT
END:VCALENDAR